BEGIN:VCALENDAR
VERSION:2.0
PRODID:-//Parker-Binns Vineyard - ECPv6.8.3//NONSGML v1.0//EN
CALSCALE:GREGORIAN
METHOD:PUBLISH
X-WR-CALNAME:Parker-Binns Vineyard
X-ORIGINAL-URL:https://www.parkerbinnsvineyard.com
X-WR-CALDESC:Events for Parker-Binns Vineyard
REFRESH-INTERVAL;VALUE=DURATION:PT1H
X-Robots-Tag:noindex
X-PUBLISHED-TTL:PT1H
BEGIN:VTIMEZONE
TZID:America/New_York
BEGIN:DAYLIGHT
TZOFFSETFROM:-0500
TZOFFSETTO:-0400
TZNAME:EDT
DTSTART:20220313T070000
END:DAYLIGHT
BEGIN:STANDARD
TZOFFSETFROM:-0400
TZOFFSETTO:-0500
TZNAME:EST
DTSTART:20221106T060000
END:STANDARD
END:VTIMEZONE
BEGIN:VEVENT
DTSTART;TZID=America/New_York:20220612T150000
DTEND;TZID=America/New_York:20220612T180000
DTSTAMP:20260424T112621
CREATED:20220526T172207Z
LAST-MODIFIED:20220526T172207Z
UID:6894-1655046000-1655056800@www.parkerbinnsvineyard.com
SUMMARY:Eric Congdon Live!
DESCRIPTION:Head over for a great day with Wine\, Music\, Food\, and FUNN! \nBurger Barn 12-6:30\nMusic 3-6\nFUNN All-day!!
URL:https://www.parkerbinnsvineyard.com/event/eric-congdon-live-7/
CATEGORIES:Events
ATTACH;FMTTYPE=image/jpeg:https://www.parkerbinnsvineyard.com/wp-content/uploads/2019/05/57104128_1773450376088248_2837654187746000896_n.jpg
END:VEVENT
END:VCALENDAR