BEGIN:VCALENDAR
VERSION:2.0
PRODID:-//Parker-Binns Vineyard - ECPv6.8.3//NONSGML v1.0//EN
CALSCALE:GREGORIAN
METHOD:PUBLISH
X-ORIGINAL-URL:https://www.parkerbinnsvineyard.com
X-WR-CALDESC:Events for Parker-Binns Vineyard
REFRESH-INTERVAL;VALUE=DURATION:PT1H
X-Robots-Tag:noindex
X-PUBLISHED-TTL:PT1H
BEGIN:VTIMEZONE
TZID:America/New_York
BEGIN:DAYLIGHT
TZOFFSETFROM:-0500
TZOFFSETTO:-0400
TZNAME:EDT
DTSTART:20220313T070000
END:DAYLIGHT
BEGIN:STANDARD
TZOFFSETFROM:-0400
TZOFFSETTO:-0500
TZNAME:EST
DTSTART:20221106T060000
END:STANDARD
END:VTIMEZONE
BEGIN:VEVENT
DTSTART;TZID=America/New_York:20220911T150000
DTEND;TZID=America/New_York:20220911T180000
DTSTAMP:20260420T064301
CREATED:20220818T195001Z
LAST-MODIFIED:20220818T195001Z
UID:6978-1662908400-1662919200@www.parkerbinnsvineyard.com
SUMMARY:David Giles Live! with Toasted Cuban Food Truck!!
DESCRIPTION:Join us for a great afternoon with Wine\, Music\, Food and FUNN!!\nThe Burger Barn is closed today\, but we are so excited to bring you some authentic Cuban cuisine!! \nToasted Cuban Food Truck 12-6:30\nMusic 3-6\nFUNN all-day! \nWe can’t wait to see you!
URL:https://www.parkerbinnsvineyard.com/event/david-giles-live-with-toasted-cuban-food-truck/
CATEGORIES:Events
ATTACH;FMTTYPE=image/jpeg:https://www.parkerbinnsvineyard.com/wp-content/uploads/2021/08/image0-1.jpeg
END:VEVENT
END:VCALENDAR