BEGIN:VCALENDAR
VERSION:2.0
PRODID:-//Parker-Binns Vineyard - ECPv6.8.3//NONSGML v1.0//EN
CALSCALE:GREGORIAN
METHOD:PUBLISH
X-WR-CALNAME:Parker-Binns Vineyard
X-ORIGINAL-URL:https://www.parkerbinnsvineyard.com
X-WR-CALDESC:Events for Parker-Binns Vineyard
REFRESH-INTERVAL;VALUE=DURATION:PT1H
X-Robots-Tag:noindex
X-PUBLISHED-TTL:PT1H
BEGIN:VTIMEZONE
TZID:America/New_York
BEGIN:DAYLIGHT
TZOFFSETFROM:-0500
TZOFFSETTO:-0400
TZNAME:EDT
DTSTART:20220313T070000
END:DAYLIGHT
BEGIN:STANDARD
TZOFFSETFROM:-0400
TZOFFSETTO:-0500
TZNAME:EST
DTSTART:20221106T060000
END:STANDARD
END:VTIMEZONE
BEGIN:VEVENT
DTSTART;TZID=America/New_York:20220918T150000
DTEND;TZID=America/New_York:20220918T180000
DTSTAMP:20260420T070040
CREATED:20220907T185632Z
LAST-MODIFIED:20220907T185632Z
UID:6986-1663513200-1663524000@www.parkerbinnsvineyard.com
SUMMARY:Eric Congdon Live!
DESCRIPTION:Join us for a great afternoon with Wine\, Music\, Food\, and FUNN!!! \nBurger Barn 12-6:30\nMusic 3-6\nFUNN ALLDAY!!
URL:https://www.parkerbinnsvineyard.com/event/eric-congdon-live-10/
CATEGORIES:Events
ATTACH;FMTTYPE=image/jpeg:https://www.parkerbinnsvineyard.com/wp-content/uploads/2019/05/57104128_1773450376088248_2837654187746000896_n.jpg
END:VEVENT
END:VCALENDAR