BEGIN:VCALENDAR
VERSION:2.0
PRODID:-//Parker-Binns Vineyard - ECPv6.8.3//NONSGML v1.0//EN
CALSCALE:GREGORIAN
METHOD:PUBLISH
X-WR-CALNAME:Parker-Binns Vineyard
X-ORIGINAL-URL:https://www.parkerbinnsvineyard.com
X-WR-CALDESC:Events for Parker-Binns Vineyard
REFRESH-INTERVAL;VALUE=DURATION:PT1H
X-Robots-Tag:noindex
X-PUBLISHED-TTL:PT1H
BEGIN:VTIMEZONE
TZID:America/New_York
BEGIN:DAYLIGHT
TZOFFSETFROM:-0500
TZOFFSETTO:-0400
TZNAME:EDT
DTSTART:20240310T070000
END:DAYLIGHT
BEGIN:STANDARD
TZOFFSETFROM:-0400
TZOFFSETTO:-0500
TZNAME:EST
DTSTART:20241103T060000
END:STANDARD
END:VTIMEZONE
BEGIN:VEVENT
DTSTART;TZID=America/New_York:20240315T180000
DTEND;TZID=America/New_York:20240315T220000
DTSTAMP:20260423T005448
CREATED:20240301T171058Z
LAST-MODIFIED:20240301T171058Z
UID:8331-1710525600-1710540000@www.parkerbinnsvineyard.com
SUMMARY:Let's Get the Funk out of Winter!
DESCRIPTION:Let’s Get the Funk out of Winter! Join us for a fantastic evening with DJ Cool Breeze spinning all our favorites!!\nCome dressed in your favorite 60’s 70’s 80’s 90’s…Genre and let’s dance the night away!!! \nRelish Kitchen open until 7:30pm! \n$10 cover
URL:https://www.parkerbinnsvineyard.com/event/lets-get-the-funk-out-of-winter-2/
CATEGORIES:Events
ATTACH;FMTTYPE=image/jpeg:https://www.parkerbinnsvineyard.com/wp-content/uploads/2020/02/GTF.jpg
END:VEVENT
END:VCALENDAR