BEGIN:VCALENDAR
VERSION:2.0
PRODID:-//Parker-Binns Vineyard - ECPv6.8.3//NONSGML v1.0//EN
CALSCALE:GREGORIAN
METHOD:PUBLISH
X-ORIGINAL-URL:https://www.parkerbinnsvineyard.com
X-WR-CALDESC:Events for Parker-Binns Vineyard
REFRESH-INTERVAL;VALUE=DURATION:PT1H
X-Robots-Tag:noindex
X-PUBLISHED-TTL:PT1H
BEGIN:VTIMEZONE
TZID:America/New_York
BEGIN:DAYLIGHT
TZOFFSETFROM:-0500
TZOFFSETTO:-0400
TZNAME:EDT
DTSTART:20250309T070000
END:DAYLIGHT
BEGIN:STANDARD
TZOFFSETFROM:-0400
TZOFFSETTO:-0500
TZNAME:EST
DTSTART:20251102T060000
END:STANDARD
END:VTIMEZONE
BEGIN:VEVENT
DTSTART;TZID=America/New_York:20250815T180000
DTEND;TZID=America/New_York:20250815T210000
DTSTAMP:20260424T083306
CREATED:20250701T194701Z
LAST-MODIFIED:20250701T194701Z
UID:9314-1755280800-1755291600@www.parkerbinnsvineyard.com
SUMMARY:3rd Friday Sunset Party w/ Beau Beaumont
DESCRIPTION:Join us for our Third Friday sunset! Enjoy the beautiful sunset\, amazing friends and fantastic food and wine!! \nBeau Beaumont Live 6-9Relish kitchen open till 7 ishArepitas On The Go Food Truck 5-8FUN all evening \, if you dare 
URL:https://www.parkerbinnsvineyard.com/event/3rd-friday-sunset-party-w-beau-beaumont/
CATEGORIES:Events
ATTACH;FMTTYPE=image/jpeg:https://www.parkerbinnsvineyard.com/wp-content/uploads/2024/07/Beau-e1770146365154.jpg
END:VEVENT
END:VCALENDAR