BEGIN:VCALENDAR
VERSION:2.0
PRODID:-//Parker-Binns Vineyard - ECPv6.8.3//NONSGML v1.0//EN
CALSCALE:GREGORIAN
METHOD:PUBLISH
X-ORIGINAL-URL:https://www.parkerbinnsvineyard.com
X-WR-CALDESC:Events for Parker-Binns Vineyard
REFRESH-INTERVAL;VALUE=DURATION:PT1H
X-Robots-Tag:noindex
X-PUBLISHED-TTL:PT1H
BEGIN:VTIMEZONE
TZID:America/New_York
BEGIN:DAYLIGHT
TZOFFSETFROM:-0500
TZOFFSETTO:-0400
TZNAME:EDT
DTSTART:20220313T070000
END:DAYLIGHT
BEGIN:STANDARD
TZOFFSETFROM:-0400
TZOFFSETTO:-0500
TZNAME:EST
DTSTART:20221106T060000
END:STANDARD
END:VTIMEZONE
BEGIN:VEVENT
DTSTART;TZID=America/New_York:20220804T190000
DTEND;TZID=America/New_York:20220804T210000
DTSTAMP:20260420T064256
CREATED:20220716T163512Z
LAST-MODIFIED:20220721T023133Z
UID:6926-1659639600-1659646800@www.parkerbinnsvineyard.com
SUMMARY:4-Course Wine Dinner w/ Feta Flav!
DESCRIPTION:Join us for this 4-course wine dinner paired with PBV wines. \nTickets are $75 plus tax and gratuity. \n\n    Purchase Tickets
URL:https://www.parkerbinnsvineyard.com/event/4-course-wine-dinner-w-feta-flav/
CATEGORIES:Events
ATTACH;FMTTYPE=image/jpeg:https://www.parkerbinnsvineyard.com/wp-content/uploads/2022/07/image0-11.jpeg
END:VEVENT
BEGIN:VEVENT
DTSTART;TZID=America/New_York:20220806T150000
DTEND;TZID=America/New_York:20220806T180000
DTSTAMP:20260420T064256
CREATED:20220727T191002Z
LAST-MODIFIED:20220727T191002Z
UID:6955-1659798000-1659808800@www.parkerbinnsvineyard.com
SUMMARY:Phil Live!
DESCRIPTION:Join us for an afternoon with Live Music\, Wine\, Food and Fun! Come and enjoy some Fantastic Wine and Food while listening to some Great toe-tapping\, sing-along music! \nBurger Barn 12-6:30\nMusic 3-6\nFun All-day! \nHope to see y’all!
URL:https://www.parkerbinnsvineyard.com/event/phil-live-48/
CATEGORIES:Events
ATTACH;FMTTYPE=image/jpeg:https://www.parkerbinnsvineyard.com/wp-content/uploads/2020/12/Phil1.jpg
END:VEVENT
BEGIN:VEVENT
DTSTART;TZID=America/New_York:20220819T180000
DTEND;TZID=America/New_York:20220819T210000
DTSTAMP:20260420T064256
CREATED:20220818T170738Z
LAST-MODIFIED:20220818T170738Z
UID:6962-1660932000-1660942800@www.parkerbinnsvineyard.com
SUMMARY:3rd Friday Sunset Celebration w/ Feta Flav and Beau Beaumont
DESCRIPTION:Join us Friday for a Beautiful Sunset\, Great Wine\, Delish Food\, and Fantastic Music! \nFeta Flav will be on-site from 5-8 \nMusic with Beau 6-9 \nCome on out and join the fun! If it rains\, no worries we’ve got you covered!
URL:https://www.parkerbinnsvineyard.com/event/3rd-friday-sunset-celebration-w-feta-flav-and-beau-beaumont/
CATEGORIES:Events
ATTACH;FMTTYPE=image/jpeg:https://www.parkerbinnsvineyard.com/wp-content/uploads/2019/05/F5A3483-HDR.jpg
END:VEVENT
BEGIN:VEVENT
DTSTART;TZID=America/New_York:20220820T150000
DTEND;TZID=America/New_York:20220820T180000
DTSTAMP:20260420T064256
CREATED:20220818T171126Z
LAST-MODIFIED:20220818T171126Z
UID:6964-1661007600-1661018400@www.parkerbinnsvineyard.com
SUMMARY:Dan Lane Live!
DESCRIPTION:Join us for a great afternoon with Wine\, Music\, Food and FUNN!!!\nBurger Barn 12-6:30\nMusic 3-6\nFUNN all-day! \nWe can’t wait to see you!
URL:https://www.parkerbinnsvineyard.com/event/dan-lane-live-2/
CATEGORIES:Events
ATTACH;FMTTYPE=image/jpeg:https://www.parkerbinnsvineyard.com/wp-content/uploads/2022/03/Cover.jpg
END:VEVENT
BEGIN:VEVENT
DTSTART;TZID=America/New_York:20220821T150000
DTEND;TZID=America/New_York:20220821T180000
DTSTAMP:20260420T064256
CREATED:20220818T171601Z
LAST-MODIFIED:20220818T171601Z
UID:6966-1661094000-1661104800@www.parkerbinnsvineyard.com
SUMMARY:Eric Congdon Live!
DESCRIPTION:Join us for a great afternoon with Wine\, Music\, Food and FUNN!!!\nBurger Barn 12-6:30\nMusic 3-6\nFUNN all-day! \nWe can’t wait to see you!
URL:https://www.parkerbinnsvineyard.com/event/eric-congdon-live-9/
CATEGORIES:Events
ATTACH;FMTTYPE=image/jpeg:https://www.parkerbinnsvineyard.com/wp-content/uploads/2021/06/eric.cognan1.jpg
END:VEVENT
BEGIN:VEVENT
DTSTART;TZID=America/New_York:20220827T150000
DTEND;TZID=America/New_York:20220827T180000
DTSTAMP:20260420T064256
CREATED:20220818T175520Z
LAST-MODIFIED:20220818T175520Z
UID:6970-1661612400-1661623200@www.parkerbinnsvineyard.com
SUMMARY:2-Dave's Live!
DESCRIPTION:Join us for a great afternoon with Wine\, Music\, Food and FUNN!!!\nBurger Barn 12-6:30\nMusic 3-6\nFUNN all-day! \nWe can’t wait to see you!
URL:https://www.parkerbinnsvineyard.com/event/2-daves-live-6/
CATEGORIES:Events
ATTACH;FMTTYPE=image/jpeg:https://www.parkerbinnsvineyard.com/wp-content/uploads/2020/10/2daves.jpg
END:VEVENT
BEGIN:VEVENT
DTSTART;TZID=America/New_York:20220828T150000
DTEND;TZID=America/New_York:20220828T180000
DTSTAMP:20260420T064256
CREATED:20220818T172051Z
LAST-MODIFIED:20220818T172051Z
UID:6968-1661698800-1661709600@www.parkerbinnsvineyard.com
SUMMARY:Bill and Tad's Excellent Duo!
DESCRIPTION:Join us for a great afternoon with Wine\, Music\, Food and FUNN!!!\nBurger Barn 12-6:30\nMusic 3-6\nFUNN all-day! \nWe can’t wait to see you!
URL:https://www.parkerbinnsvineyard.com/event/bill-and-tads-excellent-duo-9/
CATEGORIES:Events
ATTACH;FMTTYPE=image/jpeg:https://www.parkerbinnsvineyard.com/wp-content/uploads/2021/03/118139664_993561431084471_7558171892097094782_o-1.jpg
END:VEVENT
END:VCALENDAR